0.34999999999997783
0.00000000000000000
0.00000000000000000
-0.34999999999997156
780567.98174445995000000
3231448.32722532000000000
