0.34999999999997067
0.00000000000000000
0.00000000000000000
-0.34999999999997161
781503.02301218000000000
3232068.62353397020000000
