0.34999999999999631
0.00000000000000000
0.00000000000000000
-0.34999999999999998
782342.12801350001000000
3232826.73791811010000000
