0.34999999999998521
0.00000000000000000
0.00000000000000000
-0.34999999999998577
783261.40517380997000000
3233474.94851834980000000
