0.34999999999996673
0.00000000000000000
0.00000000000000000
-0.34999999999997156
784207.06262066006000000
3234080.93275316010000000
