0.35000000000000370
0.00000000000000000
0.00000000000000000
-0.35000000000001424
785111.22124353005000000
3234734.98224121980000000
