0.34999999999999259
0.00000000000000000
0.00000000000000000
-0.34999999999999998
786030.31277614995000000
3235406.06218450980000000
