0.35000000000000742
0.00000000000000000
0.00000000000000000
-0.34999999999999998
786881.35402047005000000
3234478.62969193980000000
