0.34999999999999998
0.00000000000000000
0.00000000000000000
-0.35000000000002840
785916.23461865995000000
3233878.12508181990000000
