0.34999999999998171
0.00000000000000000
0.00000000000000000
-0.34999999999998577
785097.06630941003000000
3233100.24195676020000000
