0.35000000000000736
0.00000000000000000
0.00000000000000000
-0.34999999999999998
784212.26510851004000000
3232426.77657738000000000
