0.34999999999996667
0.00000000000000000
0.00000000000000000
-0.34999999999997150
783275.99126231996000000
3231827.84321333000000000
