0.34999999999999265
0.00000000000000000
0.00000000000000000
-0.34999999999995735
782314.68847369996000000
3231223.49348388980000000
