0.34999999999996345
0.00000000000000000
0.00000000000000000
-0.34999999999997156
781415.26054962003000000
3230540.54440912980000000
