0.34999999999999998
0.00000000000000000
0.00000000000000000
-0.34999999999999998
780569.86371521000000000
3229800.40451136000000000
