0.34999999999996684
0.00000000000000000
0.00000000000000000
-0.34999999999997156
779587.40555227001000000
3229240.30873845010000000
