0.35000000000000364
0.00000000000000000
0.00000000000000000
-0.35000000000001419
778639.31030223996000000
3228630.07993301980000000
