0.34999999999997550
0.00000000000000000
0.00000000000000000
-0.34999999999997178
778334.38243838004000000
3233339.89100420010000000
