0.34999999999999637
0.00000000000000000
0.00000000000000000
-0.34999999999999998
784775.43734846998000000
3235729.64173108010000000
