0.35000000000000725
0.00000000000000000
0.00000000000000000
-0.35000000000001413
785222.72454218997000000
3236048.88346569010000000
