0.35000000000000364
0.00000000000000000
0.00000000000000000
-0.34999999999999998
786070.70144906000000000
3236780.29969327010000000
