0.34999999999999637
0.00000000000000000
0.00000000000000000
-0.35000000000001419
786944.96507586003000000
3237486.17137440010000000
