0.35000000000000731
0.00000000000000000
0.00000000000000000
-0.35000000000002829
787875.17951600999000000
3238116.15678635980000000
