0.34999999999999271
0.00000000000000000
0.00000000000000000
-0.34999999999999998
788737.70906986005000000
3238788.11363501990000000
