0.35000000000000364
0.00000000000000000
0.00000000000000000
-0.35000000000002829
789666.14710466005000000
3239444.57178321990000000
